BEGIN:VCALENDAR
VERSION:2.0
PRODID:-//Tukios.com/
BEGIN:VEVENT
UID:b448d4b1-2d07-4912-9289-eaba62768c18@www.mocklerfuneralhome.com
DTSTAMP:20260424T010909Z
DTSTART:20260428T220000Z
DTEND:20260429T000000Z
SUMMARY:Visitation
DESCRIPTION:
URL:https://www.mocklerfuneralhome.com/obituaries/john-habeeb
LOCATION:Mockler Funeral Home 24 Reservoir Street  Caribou ME 04736
GEO:46.865639;-68.0092551
END:VEVENT
END:VCALENDAR